BEGIN:VCALENDAR
VERSION:2.0
PRODID:-//Wish Upon A Star - ECPv6.15.15//NONSGML v1.0//EN
CALSCALE:GREGORIAN
METHOD:PUBLISH
X-WR-CALNAME:Wish Upon A Star
X-ORIGINAL-URL:https://www.wishchild.com
X-WR-CALDESC:Events for Wish Upon A Star
REFRESH-INTERVAL;VALUE=DURATION:PT1H
X-Robots-Tag:noindex
X-PUBLISHED-TTL:PT1H
BEGIN:VTIMEZONE
TZID:America/Chicago
BEGIN:DAYLIGHT
TZOFFSETFROM:-0600
TZOFFSETTO:-0500
TZNAME:CDT
DTSTART:20230312T080000
END:DAYLIGHT
BEGIN:STANDARD
TZOFFSETFROM:-0500
TZOFFSETTO:-0600
TZNAME:CST
DTSTART:20231105T070000
END:STANDARD
BEGIN:DAYLIGHT
TZOFFSETFROM:-0600
TZOFFSETTO:-0500
TZNAME:CDT
DTSTART:20240310T080000
END:DAYLIGHT
BEGIN:STANDARD
TZOFFSETFROM:-0500
TZOFFSETTO:-0600
TZNAME:CST
DTSTART:20241103T070000
END:STANDARD
BEGIN:DAYLIGHT
TZOFFSETFROM:-0600
TZOFFSETTO:-0500
TZNAME:CDT
DTSTART:20250309T080000
END:DAYLIGHT
BEGIN:STANDARD
TZOFFSETFROM:-0500
TZOFFSETTO:-0600
TZNAME:CST
DTSTART:20251102T070000
END:STANDARD
END:VTIMEZONE
BEGIN:VEVENT
DTSTART;TZID=America/Chicago:20241005T140000
DTEND;TZID=America/Chicago:20241005T190000
DTSTAMP:20260421T173723
CREATED:20240807T131047Z
LAST-MODIFIED:20251126T082910Z
UID:3319-1728136800-1728154800@www.wishchild.com
SUMMARY:5th Annual Spooktacular Jack-O-Lantern Derby
DESCRIPTION:Wish Upon a Star Presents\nThe 5th Annual ‘Spooktacular’ Jack-O-Lantern Derby\nSaturday\, October 5th\, 2024 at the Croatian Club\nFestivities start at Noon – Race at 2:00pm \nWhat is the ‘Spooktacular’ Jack-O-Lantern Derby? Tons of fun as Pumpkin Racers are released down the Remin Kart-a-Bag race track for head-to-head competition to cross the finish line first! \nEach Pumpkin Racer is built with a real pumpkin\, 4 wheels (provided as part of the Race Kit)\,\nand some clever ingenuity to provide a memorable shell design. The The Jack-O-Lantern Derby\nis a hilarious event\, showcasing the originality of the pumpkin racers. Join the fun and bring your best Pumpkin Racing Team. \nThere will be food and beverages available for purchase along with raffles and other surprises for family members of all ages\nto participate. \nClick here for additional event information or offline registration. \nClick here if you are interested in being a sponsor on race day!
URL:https://www.wishchild.com/event/5th-annual-spooktacular-jack-o-lantern-derby/
LOCATION:Croatian Cultural Club\, 1503 Clement St.\, Joliet\, IL\, 60435\, United States
END:VEVENT
END:VCALENDAR