BEGIN:VCALENDAR
VERSION:2.0
PRODID:-//Wish Upon A Star - ECPv6.15.15//NONSGML v1.0//EN
CALSCALE:GREGORIAN
METHOD:PUBLISH
X-WR-CALNAME:Wish Upon A Star
X-ORIGINAL-URL:https://www.wishchild.com
X-WR-CALDESC:Events for Wish Upon A Star
REFRESH-INTERVAL;VALUE=DURATION:PT1H
X-Robots-Tag:noindex
X-PUBLISHED-TTL:PT1H
BEGIN:VTIMEZONE
TZID:America/Chicago
BEGIN:DAYLIGHT
TZOFFSETFROM:-0600
TZOFFSETTO:-0500
TZNAME:CDT
DTSTART:20210314T080000
END:DAYLIGHT
BEGIN:STANDARD
TZOFFSETFROM:-0500
TZOFFSETTO:-0600
TZNAME:CST
DTSTART:20211107T070000
END:STANDARD
BEGIN:DAYLIGHT
TZOFFSETFROM:-0600
TZOFFSETTO:-0500
TZNAME:CDT
DTSTART:20220313T080000
END:DAYLIGHT
BEGIN:STANDARD
TZOFFSETFROM:-0500
TZOFFSETTO:-0600
TZNAME:CST
DTSTART:20221106T070000
END:STANDARD
BEGIN:DAYLIGHT
TZOFFSETFROM:-0600
TZOFFSETTO:-0500
TZNAME:CDT
DTSTART:20230312T080000
END:DAYLIGHT
BEGIN:STANDARD
TZOFFSETFROM:-0500
TZOFFSETTO:-0600
TZNAME:CST
DTSTART:20231105T070000
END:STANDARD
END:VTIMEZONE
BEGIN:VEVENT
DTSTART;TZID=America/Chicago:20221008T130000
DTEND;TZID=America/Chicago:20221008T190000
DTSTAMP:20260421T105827
CREATED:20220515T114503Z
LAST-MODIFIED:20251126T082923Z
UID:2052-1665234000-1665255600@www.wishchild.com
SUMMARY:3rd Annual Spooktacular Jack-O-Lantern Derby
DESCRIPTION:Wish Upon a Star Presents\nThe 3rd Annual ‘Spooktacular’ Jack-O-Lantern Derby\nSaturday\, October 8th\, 2022 at the Croatian Club\nFestivities start at 11am – Race at 2:00pm \nWhat is the ‘Spooktacular’ Jack-O-Lantern Derby? Tons of fun as Pumpkin Racers are released down the Remin Kart-a-Bag race track for head-to-head competition to cross the finish line first! \nEach Pumpkin Racer is built with a real pumpkin\, 4 wheels (provided as part of the Race Kit)\,\nand some clever ingenuity to provide a memorable shell design. The The Jack-O-Lantern Derby\nis a hilarious event\, showcasing the originality of the pumpkin racers. Join the fun and bring your best Pumpkin Racing Team. \nThere will be food and beverages available for purchase along with raffles and other surprises for family members of all ages\nto participate. \nEveryone is welcome to come cheer on these brave Jack-O-Lanterns for a great cause.  Check out our promotional video to watch the fun! \nYou can register as a racer right here on this page or if you prefer\, you can register by traditional means by downloading our racer registration form. \nMore information and a full list of rules can be found here. \nDo you own a business or would you like to support our derby? Please feel free to contact us at info@wishchild.com or complete a sponsorship form!
URL:https://www.wishchild.com/event/the-3rd-annual-spooktacular-jack-o-lantern-derby/
LOCATION:Croatian Cultural Club\, 1503 Clement St.\, Joliet\, IL\, 60435\, United States
END:VEVENT
END:VCALENDAR