BEGIN:VCALENDAR
VERSION:2.0
PRODID:-//Wish Upon A Star - ECPv6.15.15//NONSGML v1.0//EN
CALSCALE:GREGORIAN
METHOD:PUBLISH
X-WR-CALNAME:Wish Upon A Star
X-ORIGINAL-URL:https://www.wishchild.com
X-WR-CALDESC:Events for Wish Upon A Star
REFRESH-INTERVAL;VALUE=DURATION:PT1H
X-Robots-Tag:noindex
X-PUBLISHED-TTL:PT1H
BEGIN:VTIMEZONE
TZID:America/Chicago
BEGIN:DAYLIGHT
TZOFFSETFROM:-0600
TZOFFSETTO:-0500
TZNAME:CDT
DTSTART:20210314T080000
END:DAYLIGHT
BEGIN:STANDARD
TZOFFSETFROM:-0500
TZOFFSETTO:-0600
TZNAME:CST
DTSTART:20211107T070000
END:STANDARD
BEGIN:DAYLIGHT
TZOFFSETFROM:-0600
TZOFFSETTO:-0500
TZNAME:CDT
DTSTART:20220313T080000
END:DAYLIGHT
BEGIN:STANDARD
TZOFFSETFROM:-0500
TZOFFSETTO:-0600
TZNAME:CST
DTSTART:20221106T070000
END:STANDARD
BEGIN:DAYLIGHT
TZOFFSETFROM:-0600
TZOFFSETTO:-0500
TZNAME:CDT
DTSTART:20230312T080000
END:DAYLIGHT
BEGIN:STANDARD
TZOFFSETFROM:-0500
TZOFFSETTO:-0600
TZNAME:CST
DTSTART:20231105T070000
END:STANDARD
END:VTIMEZONE
BEGIN:VEVENT
DTSTART;TZID=America/Chicago:20220605T110000
DTEND;TZID=America/Chicago:20220605T190000
DTSTAMP:20260421T123034
CREATED:20211225T133320Z
LAST-MODIFIED:20251126T082929Z
UID:1730-1654426800-1654455600@www.wishchild.com
SUMMARY:Wish Upon A Star 2022 Annual Golf Outing
DESCRIPTION:Come join us for the 29th Annual Wish Upon A Star Charity Golf Outing! \nSunday June 5th\, 2022 \nTIME & PLACE:\nInwood Golf Course\n3200 W. Jefferson St. Joliet\, IL \n-Start at 9:00AM. Registration begins at 7:00AM.\n-2 Drink Tickets\, Hot Dog At the Turn and Steak Dinner Included! \nPrizes will be given for longest drive\, closest to the pin\, a putting contest (3 for $5) as well as door prizes and raffle auctions \nand chances to win on hole in one courses – $25\,000 Cash\, 4K Ultra HD Smart TV\, Callaway Irons & more! \nScoring will be played as a 4 man scramble. In a scramble\, each player tees off on each hole. The best of the tee shots is \nselected and all players play their second shots from that spot. The best of the second shots is determined\, then all play \ntheir third shots from that spot\, and so on.
URL:https://www.wishchild.com/event/wish-upon-a-star-2022-annual-golf-outing/
LOCATION:Joliet Park District\, 3000 W Jefferson St\, Joliet\, IL\, 60435\, United States
END:VEVENT
END:VCALENDAR