BEGIN:VCALENDAR
VERSION:2.0
PRODID:-//Wish Upon A Star - ECPv6.15.15//NONSGML v1.0//EN
CALSCALE:GREGORIAN
METHOD:PUBLISH
X-WR-CALNAME:Wish Upon A Star
X-ORIGINAL-URL:https://www.wishchild.com
X-WR-CALDESC:Events for Wish Upon A Star
REFRESH-INTERVAL;VALUE=DURATION:PT1H
X-Robots-Tag:noindex
X-PUBLISHED-TTL:PT1H
BEGIN:VTIMEZONE
TZID:America/Chicago
BEGIN:DAYLIGHT
TZOFFSETFROM:-0600
TZOFFSETTO:-0500
TZNAME:CDT
DTSTART:20160313T080000
END:DAYLIGHT
BEGIN:STANDARD
TZOFFSETFROM:-0500
TZOFFSETTO:-0600
TZNAME:CST
DTSTART:20161106T070000
END:STANDARD
BEGIN:DAYLIGHT
TZOFFSETFROM:-0600
TZOFFSETTO:-0500
TZNAME:CDT
DTSTART:20170312T080000
END:DAYLIGHT
BEGIN:STANDARD
TZOFFSETFROM:-0500
TZOFFSETTO:-0600
TZNAME:CST
DTSTART:20171105T070000
END:STANDARD
BEGIN:DAYLIGHT
TZOFFSETFROM:-0600
TZOFFSETTO:-0500
TZNAME:CDT
DTSTART:20180311T080000
END:DAYLIGHT
BEGIN:STANDARD
TZOFFSETFROM:-0500
TZOFFSETTO:-0600
TZNAME:CST
DTSTART:20181104T070000
END:STANDARD
END:VTIMEZONE
BEGIN:VEVENT
DTSTART;TZID=America/Chicago:20170728T100000
DTEND;TZID=America/Chicago:20170728T190000
DTSTAMP:20260424T055654
CREATED:20170428T113756Z
LAST-MODIFIED:20251126T082957Z
UID:405-1501236000-1501268400@www.wishchild.com
SUMMARY:Wish Upon A Star 2017 Annual Golf Outing
DESCRIPTION:Our annual golf outing will be held on July 28th\, 2017 so mark your calendars. More info to come!
URL:https://www.wishchild.com/event/wish-upon-star-2017-annual-golf-outing/
END:VEVENT
END:VCALENDAR